BEGIN:VCALENDAR
VERSION:2.0
PRODID:-//Buddhist Meditation Centre Sydney - ECPv4.9.9//NONSGML v1.0//EN
CALSCALE:GREGORIAN
METHOD:PUBLISH
X-WR-CALNAME:Buddhist Meditation Centre Sydney
X-ORIGINAL-URL:https://mahamevnawasydney.org.au
X-WR-CALDESC:Events for Buddhist Meditation Centre Sydney
BEGIN:VTIMEZONE
TZID:Europe/Paris
BEGIN:DAYLIGHT
TZOFFSETFROM:+0100
TZOFFSETTO:+0200
TZNAME:CEST
DTSTART:20190331T010000
END:DAYLIGHT
BEGIN:STANDARD
TZOFFSETFROM:+0200
TZOFFSETTO:+0100
TZNAME:CET
DTSTART:20191027T010000
END:STANDARD
END:VTIMEZONE
BEGIN:VEVENT
DTSTART;TZID=Europe/Paris:20191130T170000
DTEND;TZID=Europe/Paris:20191130T190000
DTSTAMP:20210301T051750
CREATED:20190831T172731Z
LAST-MODIFIED:20191123T035423Z
UID:258-1575133200-1575140400@mahamevnawasydney.org.au
SUMMARY:Wollongong Dhamma Sermon
DESCRIPTION:\n\n\n\n\nThe program includes Buddha Wandanawa\, Dhamma sermons\, Meditation\, and Dhamma discussions.192 Gipps Rd\, Gwynneville NSW 2500 \n\n\n\n\n\n\n
URL:https://mahamevnawasydney.org.au/event/wollongong-dhamma-sermon/
LOCATION:Wollongong Senior Citizens Centre\, 192 Gipps Rd\, Gwynneville\, NSW\, 2500\, Australia
ATTACH;FMTTYPE=image/jpeg:https://mahamevnawasydney.org.au/wp-content/uploads/2019/08/Wollogon.jpg
ORGANIZER;CN="Mahamevnawa%20Buddhist%20Meditation%20Centre%20Sydney":MAILTO:info@mahamevnawasydney.org.au
END:VEVENT
END:VCALENDAR